BEGIN:VCALENDAR
VERSION:2.0
PRODID:-//wp-events-plugin.com//7.2.3.1//EN
BEGIN:VEVENT
UID:19@smartlearning.dev.gemrajtechs.com
DTSTART:20250225T140000Z
DTEND:20250225T160000Z
DTSTAMP:20241203T113554Z
URL:https://smartlearning.dev.gemrajtechs.com/begivenhed/webinar/
SUMMARY:Webinar
DESCRIPTION:Webinar: Nye digitale teknologier - mellem uddannelse og erhve
 rvsliv\nHvordan ser fremtidens uddannelser ud?\n\nVi skal omstille vores u
 ddannelser til en stadig mere højteknologisk fremtid. Men hvad betyder de
 t i praksis? Og hvad betyder det for dig som underviser?\nPå webinaret "N
 ye digitale teknologier - mellem uddannelse og erhvervsliv“ får du bud 
 på nogle svar.\n\nMed udgangspunkt i et fælles udviklingsprojekt på tv
 ærs af erhvervsakademierne\, laver vi nedslag i de tendenser\, der er med
  til at forme fremtiden for vores uddannelser. Hør om behovet for AI-komp
 etenceudvikling af alle undervisere\, om klasserumsledelse i et teknologit
 ungt klasserum\, om nye udprøvningsformer m.m.\n\nHvornår:      Tirsd
 ag den 25. februar 2025 kl. 14.00 - 16.00\n\nTilmeld dig\, hvis du er nysg
 errig på vores fælles fremtid eller vil inspireres til egne udviklingsak
 tiviteter eller eksperimenter i din undervisning.\n\nWebinaret henvender s
 ig især til adjunkter der er i færd med deres lektorkvalificering.\n\n__
 _________________________________________________________________\n\nInfor
 mation:\n\nWebinaret er gratis\, og er i første omgang tænkt til ansatte
  ved erhvervsakademierne (SmartLearnings ejere)\, især adjunkter som kan 
 bruge webinaret som inspiration til deres lektorkvalificering. Er du ikke 
 tilknyttet et erhvervsakademi\, er du også velkommen til at deltage.\n\nN
 år du tilmelder dig\, sender vi en bekræftelse på mail som indeholder e
 n kalenderinvitation. Link til selve webinaret fremsendes i er nyhedsbrev 
 senest 7 dage før eventen. Modtager du ikke noget fra os\, så skriv til
  learninghub@smartlearning.dk\, men tjek gerne dit spamfilter først.\n\
 nVed tilmelding gav du samtykke til at modtage nyhedsbrev og andet relevan
 t materiale fra learninghub.dk. Du kan altid framelde dig nyhedsbrevet ig
 en.
ATTACH;FMTTYPE=image/jpeg:https://smartlearning.dev.gemrajtechs.com/wp-con
 tent/uploads/2024/11/Billede-Webinar.jpg
END:VEVENT
END:VCALENDAR