BEGIN:VCALENDAR
VERSION:2.0
PRODID:-//wp-events-plugin.com//7.2.3.1//EN
BEGIN:VEVENT
UID:18@smartlearning.dev.gemrajtechs.com
DTSTART:20240502T090000Z
DTEND:20240502T160000Z
DTSTAMP:20241122T124934Z
URL:https://smartlearning.dev.gemrajtechs.com/begivenhed/slask-konference/
SUMMARY:SLASK Konference
DESCRIPTION: Konference - Torsdag den 2. maj 2024\nVi glæder os til at s
 e dig til årets konferencen i 2024\, som afholdes i AI Innovation House i
  Vejle. Vi arbejder på fuld tryk for at få sat navne på oplægsholdere
  og opdaterer løbende hjemmesiden\, som de bliver bekræftet - så hold l
 øbende øje med opdateringer her på siden.\n\n\n\nSLASK er det nye navn 
 for netværkskonferencen for akademierne. Det betyder:\n\nS: Smart-\n\nL: 
 Learnings\n\nA: Akademi-\n\nS: Sektor-\n\nK: Konference\n_________________
 ________________________________________________\n\nTorsdag den 2. maj 202
 4 kl. 9.15-16.00\n\n&nbsp\;\n\n\n\n_______________________________________
 ______________________________________\nFaglige udstillere:\n\n 	Hans Reit
 zels Forlag\n 	Moxis\n 	Panopto/Viducon\n\n&nbsp\;\n\n           \n
 \n\n\nMålgruppe\nUndervisere i erhvervsakademisektoren\, samt læringskon
 sulenter\, ledere og andre\, der beskæftiger sig med det pædagogiske arb
 ejde i praksis.\n\nPraktisk\nAdresse: AI Innovation House - Innovations A
 llé 3 - 7100 Vejle\n\nKommer du i bil:\nDer er 500 gratis parkeringsplads
 er fordelt i hele parken\, med stor plads i forlængelse af AI Innovation 
 House\, og herunder cirka 70 el-ladestandere fra forskellige udbydere.\n\n
 Hjemmeside: AI Innovation House - Dandy Business Park\n\n&nbsp\;\n\nKomme
 r du med tog:\nVi vil sørge for at der er en gratis shuttlebus\, som tran
 sportere dig fra Vejle St. om morgenen. Bussen kører kl. 9.10 og 9.35\n\
 n\n\nMødested: Borgvold v/ flixbus stoppestedet (3 min. gang fra perron)\
 nRetur til Vejle St. fra AI Innovation House kl. 16.10 - forvent ca. 20 - 
 25 min. pga. trafik.\n____________________________________________________
 _____________________________________________\nKonferencen er gratis for a
 nsatte ved erhvervsakademierne (SmartLearnings ejere)\, der er max. 150 pl
 adser og derfor "først til mølle".\n\nSkulle du blive forhindret i at de
 ltage\, skal afmeldingen ske senest onsdag den 24. april 2024 til learnin
 ghub@smartlearning.dk\, ellers vil du blive opkrævet et noshow-gebyr på 
 1.000 kr.\n\nEr du ikke tilknyttet et erhvervsakademi\, er deltagergebyret
  1.500 kr. inkl. moms\, og fristen for afmelding er den 24. april 2024.\n\
 nAlle beløb faktureres via din institution efter afholdelsen.\n\nNår du 
 tilmelder dig\, sender vi en bekræftelse på mail. Modtager du ikke noge
 t\, så skriv til learninghub@smartlearning.dk\, men tjek gerne dit spam
 filter først.\n\nVed tilmelding gav du samtykke til at modtage nyhedsbrev
  omkring konferencen og andet relevant materiale fra learninghub.dk. Du k
 an altid framelde dig nyhedsbrevet igen.\n\n&nbsp\;\n\nTilbagevendende ins
 pirationsdag\nSLASK er en tilbagevendende inspirationsdag. Hvert forår in
 viterer SmartLearning erhvervsakademisektorens undervisere til en dag om d
 igital læring.\n\nHer samles 150 af sektorens undervisere\, læringskonsu
 lenter\, ledere og andre\, der ønsker input til det pædagogiske arbejde 
 til fælles inspiration.\n\n
ATTACH;FMTTYPE=image/jpeg:https://smartlearning.dev.gemrajtechs.com/wp-con
 tent/uploads/2024/09/Topbillede_events_hjemmesiden_Konferencen_2024-e17270
 94127191.jpg
END:VEVENT
END:VCALENDAR