BEGIN:VCALENDAR
VERSION:2.0
PRODID:-//wp-events-plugin.com//7.2.3.1//EN
BEGIN:VEVENT
UID:15@smartlearning.dev.gemrajtechs.com
DTSTART:20250508T100000Z
DTEND:20250508T160000Z
DTSTAMP:20241122T130959Z
URL:https://smartlearning.dev.gemrajtechs.com/begivenhed/slask-konference-
 lyngby-8-maj-2025/
SUMMARY:SLASK Konference
DESCRIPTION:\nKonference - Torsdag den 8. maj 2025\nSæt allerede nu X i d
 in kalenderen\, så du er klar til at deltage i 2025.\nKonferencen afholde
 s hos CphBusiness i Lyngby i deres nye flotte lokaler.\n\nVi opdateret lø
 bende programmet\, som vi får fundet de mest aktuelle oplægsholder til d
 agen - og der åbnes for  tilmelding i løbet af foråret 2025.\n\n \nMå
 lgruppe\nUndervisere i erhvervsakademisektoren\, samt læringskonsulenter\
 , ledere og andre\, der beskæftiger sig med det pædagogiske arbejde i pr
 aksis.\n\n________________________________________________________________
 __________________\n\nKonferencen er gratis for ansatte ved erhvervsakadem
 ierne (SmartLearnings ejere)\, der er max. 150 pladser og derfor "først t
 il mølle".\n\nEr du ikke tilknyttet et erhvervsakademi\, er deltagergebyr
 et 1.500 kr. inkl. moms.\n\nAlle beløb faktureres via din institution eft
 er afholdelsen.\n\nNår du tilmelder dig\, sender vi en bekræftelse på m
 ail. Modtager du ikke noget\, så skriv til learninghub@smartlearning.dk
 \, men tjek gerne dit spamfilter først.\n\nVed tilmelding gav du samtykk
 e til at modtage nyhedsbrev omkring konferencen og andet relevant material
 e fra learninghub.dk. Du kan altid framelde dig nyhedsbrevet igen.\nTilba
 gevendende inspirationsdag\nSLASK er en tilbagevendende inspirationsdag. H
 vert forår inviterer SmartLearning erhvervsakademisektorens undervisere t
 il en dag om digital læring.\n\nHer samles 150 af sektorens undervisere\,
  læringskonsulenter\, ledere og andre\, der ønsker input til det pædago
 giske arbejde til fælles inspiration.
ATTACH;FMTTYPE=image/jpeg:https://smartlearning.dev.gemrajtechs.com/wp-con
 tent/uploads/2024/09/Top_billede_hjemmesiden_SLASK_2025-e1727093182792.jpg
LOCATION:\, CphBusiness \, Lyngby\, Denmark
X-APPLE-STRUCTURED-LOCATION;VALUE=URI;X-ADDRESS=CphBusiness \, Lyngby\, Den
 mark;X-APPLE-RADIUS=100;X-TITLE=:geo:0,0
END:VEVENT
END:VCALENDAR