BEGIN:VCALENDAR
VERSION:2.0
PRODID:-//wp-events-plugin.com//7.2.3.1//EN
BEGIN:VEVENT
UID:16@smartlearning.dev.gemrajtechs.com
DTSTART:20241126T150000Z
DTEND:20241129T173000Z
DTSTAMP:20241122T124012Z
URL:https://smartlearning.dev.gemrajtechs.com/begivenhed/online-educa-berl
 in-2024-26-29-november-2/
SUMMARY:Online Educa Berlin 2024
DESCRIPTION:Kom med os til Berlin!\nEfter flere års fravær tilbyder vi ig
 en sektoren at komme med til konferencen OEB i Berlin. Turen består af en
  opvarmningsdag samt to dage på OEB-konferencen.\n\nPå opvarmningsdagen 
 kan du mødes med dine kollegaer fra sektoren\, dele viden og få spænden
 de nyheder med hjem fra den to-dages konference OEB. Her kan du blive opda
 teret på AI i undervisningen\, nyeste didaktik og møde de mennesker\, so
 m har den nyeste viden inden for digital undervisning. For at gøre det ne
 mt for dig har vi sørget for konferencebilletter og hotel samt arrangeret
  en fælles opvarmningsdag med seminar og middag\, hvor du kan møde liges
 indede fra sektoren. Det eneste\, du skal gøre\, er at komme til Berlin.\
 nOnline Educa 2024\nOnline Educa Berlin (OEB) er en global konference\, hv
 or du kan få indblik i den seneste udvikling inden for teknologistøttet 
 læring på tværs af sektorer. Hvert år deltager over 2500 personer for 
 at se det omfattende program og udstilling\, og et af de emner\, der fokus
 eres særligt på\, er Videregående Uddannelse. Du kan læse mere om konf
 erencen her::\n\nOeb.global\n\n\nAlt det praktiske\nMålgruppe:\nUndervise
 re\, pædagogisk personale og ledelse\, der ønsker:\n\n 	Introduktion til
  mulighederne i digitale undervisningsværktøjer\n 	Nye perspektiver på 
 konkrete erfaringer med digitale elementer i undervisningen\n 	Inspiration
  til best practice\n 	Bedre forudsætninger for til at lære fra dig\n 	Et
  bedre kendskab til udfordringer og ændring i arbejdsbyrde\n 	At nuancere
  debatten på jeres institution\n 	Et billede af\, hvor udviklingen på de
 tte felt bevæger sig hen\n\nTid\nTirsdag den 26. november til fredag den 
 29. november 2024\n\n 	Tirsdag 26. november 2024 er rejsedag\, og der er c
 heck-in på hotel fra kl. 15.00.\n 	Onsdag den 27. november kl. 9-16.00 va
 rmer vi op til konferencen med et fælles seminar for alle deltagene fra s
 ektoren.\n 	Selve konferencen er torsdag den 28. november til fredag den 2
 9. november 2024.\n\nSted\nBerlin\, Tyskland\n\n 	Konferencen Online Educa
  afholdes på Hotel InterContinental\, der ligger centralt i Berlin på: B
 udapester Strasse 2\, 10787 Berlin.\n 	Vi skal bo på Hotel H10\, der ligg
 er ca.1\,3 km fra konferencestedet. Det liger i nærheden af Berlin Zoolog
 ischer Garten banegård\, så det er let at komme til fra både lufthavn o
 g hotel. Hotel H10:  H10 Berlin Ku'damm | Hotel in the center of Berlin 
 | H10 Hotels\n 	Opvarmningsdagen afholder vi på Hotel H10 i Berlin: H10 
 Berlín Ku'damm | Hotel in Berlin | MICE: Meetings &amp\; Events Hotels (h
 10hotels.com)\n 	Restaurant til fællesspisning på opvarmningsdagen blive
 r på lokalt spisested.\n\nDet sørger vi for\n\n 	Adgang til konferencen 
 - til en reduceret pris. Billetten er inkl. frokost &amp\; kaffe/the begge
  dage.\n 	Overnatning på hotel inkl. morgenmad fra 26. november til 29. n
 ovember 2024 - altså 3 nætter!\n 	Opvarmningsdag d. 27. november 2024. 
 Dvs. seminar fra kl. 9.00 - 16.00\, inkl. frokost &amp\; kaffe/the/kage sa
 mt fælles middag om aftenen.\n 	Guides til at navigere rundt i den omfatt
 ende konference OEB.\n\nDet skal du selv sørge for\nTransport t/r Danmark
  - Berlin\nPris\nDet koster kr. 12.000\,- pr. person at deltage på turen
 .\nBeløbet vil blive faktureret via din institution efter tilmeldingsfris
 ten den 23. september 2024.\nTilmelding\n\n 	Når du tilmelder dig\, sende
 r vi en bekræftelse på mail.\n 	Modtager du ikke noget\, så skriv til 
 heca@smartlearning.dk\, men tjek gerne dit spamfilter først.\n 	Ved tilm
 elding giver du samtykke til at modtage informationer vedrørende din delt
 agelse i konferencen\, samt nyhedsbrev og andet relevant materiale fra lea
 rninghub.dk. Du kan altid melde framelde dig Nyhedsbrevet.\n\nTilmeldingsf
 rist\nMandag den 23. september 2024 - eller når vi har 100 tilmeldinger.\
 n\n 	Frem til denne dato kan du melde afbud uden omkostninger.\n 	Melder d
 u afbud mellem den 23. september og 15. november\, tillader vi os at sende
  en regning på 5.500 kr.\n 	Melder du afbud senere end den 15. november v
 il vi tillade os at sende en regning på det fulde beløb\, såfremt vi ik
 ke kan få pladsen afsat til anden side.\n
ATTACH;FMTTYPE=image/jpeg:https://smartlearning.dev.gemrajtechs.com/wp-con
 tent/uploads/2024/09/Topbillede_events_hjemmesiden_OEB_2024-e1727092158188
 .jpg
END:VEVENT
END:VCALENDAR