BEGIN:VCALENDAR
VERSION:2.0
PRODID:-//wp-events-plugin.com//7.2.3.1//EN
BEGIN:VEVENT
UID:17@smartlearning.dev.gemrajtechs.com
DTSTART;VALUE=DATE:20241001
DTEND;VALUE=DATE:20241005
DTSTAMP:20240923T121121Z
URL:https://smartlearning.dev.gemrajtechs.com/begivenhed/digital-learning-
 bootcamp/
SUMMARY:Digital Learning Bootcamp
DESCRIPTION:DLB24 - Årets Digital Learning Bootcamp går til Edinburgh i 
 Skotland\,\nhvor temaet vil være: Digital Learning Future\nBootcampen by
 der bl.a. på besøg i universitetsbyen\, hvor vi skal møde digitale eksp
 erter fra Edinburgh University\, besøg på Edinburgh Future Institute og 
 vi skal opleve den fantastisk universitetsby som emmer af liv og unge menn
 esker - og som har været inspiration til Harry Potter-bøgerne.\n\nPROGRA
 M\n\nTirsdag den 1. oktober\n\n- Rejsedag til Edinburgh\n\n- Check-in på 
 hotel “Motel One\, Edinburgh - Royal” fra kl. 15.00\n\n- Middag på R
 estaurant Dishoom\n\n- Ghost walk: Hidden and Haunted tour (frivilligt)\n\
 n\nOnsdag 2. oktober\n\nBesøg på Edinburgh University:\n- Centre for Op
 en Learning and Moray House School of Education and Sport på Edinburgh Un
 iversity ved Dincer Ozoran\, Learning Technology Manager vil være vore
 s vært denne dag.\nDincer vil give os en præsentation af teamet\, samt h
 vad de arbejder med (training\, design\, AI og roller i teamet).\n\n\n\nD
 incer Ozoran\n\n- ABC Learning Design-metoden giver dig indblik i hvordan
  man skaber et kort onlinekursus.\n\n- Dr. Peter Evans\, Senior Lecturer
  og Dr Janja Komljenovic\, MSc in Digital Education: Structure and appro
 aches\, vil give os et indblik i deres MSc program.\n\n  \n\nPeter Even
 s                                                
 Janja Komljenovic\n\n- Navigating the Future: Insights from the Center fo
 r Research in Digital Education\nProf. Sian Bayne\, Director at Centre for
  Research in Digital Education (CRDE) and Assistant Principle for EFI (Ed
 inburgh Future Institute). Hun vil give os et indblik i Sian Bayne centret
 . Sian Bayne - Edinburgh Futures Institute\n\n\n\nSian Bayne\n\nDu kan l
 æse mere om de 3 oplægsholdere og deres baggrund på Centre for research
  in digital education hjemmeside: People | Digital Education\n\nEftermidd
 agen på besøg hos Edinburgh Future Institute (EFI)\n\n- Rundvisning i 
 den nyrestaureret bygning af Mary Collacott\, Learning Technologist hvor
  vi bl.a. skal se deres hybride undervisningslokaler “Fusion room”.\n\
 n- Derudover vil Emma Mcallister\, Technology &amp\; Design Lead gennemg
 å deres "Hybrid Master program" hos EFI.\n\n\n\nEmma Mcallister\n\n- Mid
 dag på restaurant GAUCHO\n\n\nTorsdag 3. oktober\n\n- Workshop: Teknolo
 giens rolle og ledelsesopgaver i uddannelsessektoren\nAf Susanne Dixen\, U
 ddannelsesdirektør\, Dania og Line Louise Hansen\, Uddannelsesdirektør\
 , Cphbusiness\n\n\n\nSusanne Dixen\n\n\n\nLine Louise Hansen\n\nVelkommen 
 til en workshop i tre dele\, hvor vi vil dykke ned i teknologiens rolle og
  de ændrede ledelsesopgaver i uddannelsessektoren. Gennem tre perspektive
 r - strategisk\, taktisk og operationelt - vil vi udforske de mange facett
 er af teknologisk implementering og dens indvirkning på vores arbejde som
  ledere.\n\nStrategisk Perspektiv:\nVi starter med at undersøge de strate
 giske teknologi-diskussioner på jeres Erhvervsakademi. Hvordan påvirker 
 teknologier effektivisering\, økonomi\, nye markeder\, leveranceformer\, 
 samt rettigheds- og GDPR-problematikker? Hvilke nye opgaver og roller opst
 år?\n\nTaktisk Perspektiv:\nDerefter skifter vi fokus til det taktiske ni
 veau. Hvordan ændrer teknologierne arbejdet med uddannelsesudvikling\, vi
 dens opgaver\, den pædagogiske praksis\, fremmødet på campus\, jeres fo
 rretningsgange og procedurer\, samt samarbejdet på institutionen? Og hvad
  betyder dette for din ledelsesopgave?\n\nOperationelt Perspektiv:\nTil si
 dst ser vi på de operationelle konsekvenser. Hvilken betydning har de tek
 nologiske ændringer for underviserkompetencer\, uddannelsesmodeller\, led
 elsesopgaver for u-chefer\, og samarbejder på tværs af sektoren?\nGennem
  dialoger og inspiration vil vi identificere de centrale spørgsmål og op
 gaver\, som vi som chefer i uddannelsessektoren skal igangsætte eller vid
 ereføre i samarbejde med Danske Erhvervsakademier.\n\nLad os starte dialo
 gerne her og nu for at forme fremtidens uddannelseslandskab sammen.\n\n- G
 åtur til Arthur’s Seat (frivilligt)\n\n- Middag på Restaurant Amber/
 Scotch Whisky Experience\n\n\nFredag 4. oktober\n\n- Oplæg: EU’s nye l
 ovgivning for anvendelsen af AI (AI Act)\n\n\n\nJørgen Sørensen\, Head o
 f Data Factory &amp\; Responsible AI\, PwC Denmark vil give et oplæg om h
 vordan EU’s nye lovgivning for anvendelsen af AI (AI Act) vil påvirke u
 ddannelsesinstitutionernes anvendelse af AI. Oplægget omfatter en kort in
 troduktion til lovens krav med fokus på konsekvensen for uddannelsesinsti
 tutioner. Jørgen vil beskrive de ledelsesmæssige opgaver overholdelse af
  loven kræver samt give nogle praktiske og operationelle forslag til tilt
 ag som kan lette arbejdet med AI og udnytte mulighederne og undgå de stø
 rste udfordringer. Jørgen lægger op til dialog for at sikre en anvendels
 esorienteret forståelse af lovens muligheder og begrænsninger. ”Lad os
  lære af GDPR implementeringen og gøre det bedre”\n\nJørgen Sørensen
  har mere en 35 års erfaring med at operationalisere compliance krav omkr
 ing data og it fra sine mange år som ansvarlig it-revisor\, it-sikkerheds
 chef\, cyber- og GDPR-ekspert og senest som ansvarlig for PwC Data science
  team og ydelser inden for ansvarlig AI (Responsible AI)\n\nEU har i 2024 
 vedtaget en AI-forordning\, som træder i kraft i 2025. Læs mere herom 
 EU´s AI Act\n\n- Slut for denne gang kl. 11.30.\n\nDet faglige programmet
  starter onsdag morgen kl. 9.00 og slutter fredag senest kl. 12.00.\n\n\n\
 n\nMålgruppe\nLedere i erhvervsakademisektoren (fx uddannelseschefer\, pr
 ogramchefer\, IT-chefer samt leder fra læringsafdelinger)\n\nPraktisk\nVi
  har denne gang valgt at planlægge en længere tur med 3 overnatninger\, 
 da der er længere rejsetid fra Danmark til Skotland. Der er flere daglige
  afgange til byen.\nTil info har vi har ikke promgramsat aktiviteter før 
 onsdag morgen kl. 9.00\, dog med en "frivillig" fælles velkomstmiddag tir
 sdag aften.\n\nDu står selv for transport og betaler selv - til og fra Ed
 inburgh. Vi anbefaler direkte ruter fra København med Easyjet og Norwegia
 n\, som har en rejsetid på ca. 2 timer pr. vej. Fly fra Billund og Aalbor
 g med et stop med KLM ell. Norwegian - begge tager ca. ca. 3\,5 - 4\,5 tim
 er pr. vej. Vi anbefaler følgende afgange:\n\nKøbenhavn\, udrejse kl. 1
 0.20 - hjem fra Edinbugh kl. 15.10 - 17.55\, direkte\n\nBillund\, udrejse 
 kl. 10.05 - hjem kl. 17.25 - 22.50 via Amstedam\n\nAalborg\, udrejse kl. 1
 2.10 - hjem kl. 15.10 - 19.50 via Kbh.\n\nHotel\nVi skal bo på Motel One 
 Edinburgh-Royal\, 18-21 Market Street\, Edinburgh\, som ligger i gå-afsta
 nd til det meste.\nCheck-in på hotellet fra kl. 15.00.\n\nPris\nTuren kos
 ter kr. 11.500\,- som inkludere ophold på hotel (3 nætter i enkeltværel
 se) centralt i Edinburgh\, fuld forplejning\, fagligt besøg\, spændende 
 oplæg\, workshop samt sociale tiltag\, hvor vi sammen skal opleve Edinbur
 gh.\nDet mere detaljerede program fremsendes efter tilmeldingsfristen udl
 øber - og senest 14 dage før afrejse.\n\nTilmeldingfrist/deltagerantal\n
 Fredag den 30. august 2024 eller ved 25 deltagere. Herefter oprettes vente
 liste!\n\nDet med småt\nFrem til fredag den 30. august 2024\, melder du a
 fbud uden omkostninger. Hvis du melder afbud efter denne dato\, tillader v
 i os at sende en regning på 5.900 kr. som dækker vores omkostninger.\n\n
 Melder du afbud senere end mandag den 16. september 2024\, vil vi tillade 
 os at sende en regning på det fulde beløb\, såfremt vi ikke kan få pla
 dsen afsat til en anden side.\n\nSpørgsmål til turen kan ske til Heidi A
 dele Cardell hos SmartLearning: heca@smartlearning.dk eller tlf. 22 41 7
 5 11.\n\nVed tilmelding giver du samtykke til at modtage nyhedsbreve og an
 det relevant materiale fra learninghub.dk. Du kan altid framelde dig nyhed
 sbrevet igen.
ATTACH;FMTTYPE=image/jpeg:https://smartlearning.dev.gemrajtechs.com/wp-con
 tent/uploads/2024/09/DLB24_Topbillede_events_hjemmesiden-e1727092870834.jp
 g
LOCATION:Edinburgh\, Motel One\, Edinburgh - Royal\, Edinburgh \, Skotland\
 , United Kingdom
X-APPLE-STRUCTURED-LOCATION;VALUE=URI;X-ADDRESS=Motel One\, Edinburgh - Roy
 al\, Edinburgh \, Skotland\, United Kingdom;X-APPLE-RADIUS=100;X-TITLE=Edi
 nburgh:geo:0,0
END:VEVENT
END:VCALENDAR